BEGIN:VCALENDAR
VERSION:2.0
PRODID:-//Things To Do - ECPv4.8.1//NONSGML v1.0//EN
CALSCALE:GREGORIAN
METHOD:PUBLISH
X-WR-CALNAME:Things To Do
X-ORIGINAL-URL:https://thingstodoadvisor.com
X-WR-CALDESC:Events for Things To Do
BEGIN:VEVENT
DTSTART;TZID=America/New_York:20180615T170000
DTEND;TZID=America/New_York:20180617T220000
DTSTAMP:20260425T203829
CREATED:20180614T163544Z
LAST-MODIFIED:20180614T164051Z
UID:851-1529082000-1529272800@thingstodoadvisor.com
SUMMARY:Bel Air Greek Festival
DESCRIPTION:Come Join us for our 12th Annual Bel Air Greek Festival\, sponsored by Sts Mary Magdalene & Markella Greek Orthodox Church is a family friendly event \nA Family Friendly Event \n \n\nSponsored in Part by: \nAmerican Sentry  \nSolar  \nGet the Solar Facts Today \nNot 20 or 30 years\, and Lower your electric costs! \nCall today 410-557-0555 \n\nDates & Times: \nFriday       4pm to 10pm\nSaturday  Noon to 10pm\nSunday      Noon to 7pm \nLocation:  703 E Churchville Rd\, Bel Air\, MD 21014   – Click for directions \n \nGreek Food & Greek Deserts \nAbout: \nExperience the Greek culture and all it has to offer.   Enjoy great Greek Music\, Greek entertainment and of course Greek Food. \nGreek Food – Greek Deserts \nKids Entertainment & Greek Music \nGreek Folk Dance \nSilent Auction  & Vendors \n\n\n\n\n(adsbygoogle = window.adsbygoogle || []).push({});\n \n Bring your family and come enjoy our wonderful Greek Festival.  We have Greek food and desserts\, beer/wine and spirits\, Vendors\, Silent Auction\, Kids Corner\, and more!  Event is located at the John Carroll School has free admission and free parking! \n  \n\n
URL:https://thingstodoadvisor.com/event/bel-air-greek-festival/
CATEGORIES:Events in Harford County,Family Events
ATTACH;FMTTYPE=image/jpeg:https://thingstodoadvisor.com/wp-content/uploads/2018/06/Greek-Festival.jpg
END:VEVENT
BEGIN:VEVENT
DTSTART;TZID=America/New_York:20180615T173000
DTEND;TZID=America/New_York:20180615T220000
DTSTAMP:20260425T203829
CREATED:20180613T040731Z
LAST-MODIFIED:20180613T140948Z
UID:839-1529083800-1529100000@thingstodoadvisor.com
SUMMARY:Bel Air Family Movie Night - FREE
DESCRIPTION:Enjoy a Free Family outing – The Bel Air Movie Night – A Free community event in the heart of Down Town Bel Air. Brought to you by the Bel Air Downtown Alliance. \nFREE \nBel Air Movie Night\nLooks Like Good Weather! \nJune – to – August \nSEE DATES & Times Below  \nCome out to our next ones Get dates below. \n \n\n\n \n\nOther Events You May Like:\nDelta – Cardiff BBQ Festival  – Click to learn more \n \n\n\nSponsored in Part By \n\nAmerican Sentry Solar \nGet Your FREE Solar Analysis – Start Saving MONEY on Electric \nMention – Bel Air Movie Night & Get a $500 Gift Card \nCall Us Today – 410-557-0555 \n\nLocation: Shamrock Park\, Bel Air MD  – Click for Directions \nMovies & Hours\n06/15/2018 Beauty and the Beast (rated PG) Pre-movie Entertainment: Uncle Pete Rocks \n06/29/2018 Storks (rated PG) Pre-movie Entertainment: Hoppin’ Hawks \n07/13/2018 Despicable Me 3 (rated PG) Pre-movie Entertainment: Becky Titleman \n07/27/2018 Star Wars: The Last Jedi (rated PG-13) Pre-movie Entertainment: TaeKwonDo Masters \n08/17/2018 Coco (rated PG) Pre-movie Entertainment: Bel Air Dance Academy \n08/24/2018 Cars 3 (rated G) Pre-movie Entertainment: Twirltastics \n \n\nEvent Hours :\nEvent Activities Begin at 530pm   –  \nMovies Begin when – Evening falls Typically 8pm \nWe welcome our community to come together to watch movies under the stars.  Bringing back old fashioned community feeling.  The Bel Air Downtown Alliance’s Summer Movies Nights are a great time and place to bring the whole family for a fun movie night at Shamrock Park with pre-movie entertainment provided by the Bel Air Cultural Arts Commission. Our movies are not only free and family friendly but also come with popcorn and face painting. \nUp Coming Events: \n \nLEARN MORE – CLICK HERE \n\n
URL:https://thingstodoadvisor.com/event/bel-air-family-movie-night-free/
LOCATION:Bel Air Movie Night\, 39 N Hickory Ave\, Bel Air\, MD\, 21014\, United States
CATEGORIES:Events in Harford County,Events in Maryland,Family Events
ATTACH;FMTTYPE=image/jpeg:https://thingstodoadvisor.com/wp-content/uploads/2017/07/Bel-Air-movie-night.jpeg
END:VEVENT
END:VCALENDAR