BEGIN:VCALENDAR
VERSION:2.0
PRODID:-//Things To Do - ECPv4.8.1//NONSGML v1.0//EN
CALSCALE:GREGORIAN
METHOD:PUBLISH
X-WR-CALNAME:Things To Do
X-ORIGINAL-URL:https://thingstodoadvisor.com
X-WR-CALDESC:Events for Things To Do
BEGIN:VEVENT
DTSTART;TZID=America/New_York:20180126T100000
DTEND;TZID=America/New_York:20180128T170000
DTSTAMP:20260419T221458
CREATED:20180116T173823Z
LAST-MODIFIED:20180116T175753Z
UID:682-1516960800-1517158800@thingstodoadvisor.com
SUMMARY:World of Pets Expo
DESCRIPTION:\n								World of Pets Expo\nThe world of Pets Expo has returned for another great year 2018.  Great learning opportunities\, product display for pets\, and much more. \n  \n\n\n\n\n(adsbygoogle = window.adsbygoogle || []).push({});\n\nGo to our Facebook event and Select Interested for 2018 \nWhat is world of Pets Expo\nThe World of Pets Expo and Educational Experience is a long-standing East Coast Expo\, designed to provide animal and pet lovers with an all-inclusive event filled with entertainment\, educational opportunities\, workshops\, speakers\, shopping\, and shows. \nWorld of Pets Expo is held at Timonium Fairgrounds each year!\n  \n \nREAD ABOUT  – World of Pets Expo\nThe Maryland World of Pets Expo and Educational Experience at the Maryland State Fairgrounds in Timonium. The World of Pets Expo is a cornerstone event for East Coast pet enthusiasts and animal lovers alike. This year will mark the 17th anniversary of the Maryland World of Pets Expo and we are expecting this year to one of the largest and most entertaining yet. This exciting three-day expo is one of Maryland’s only family and pet-friendly events that is fun for all ages and is considered the Ultimate Event for the Pet Lover. \nDates and Times:  January 26-28\, 2018 \n\n\n\n\n(adsbygoogle = window.adsbygoogle || []).push({});\n \n  \n  \nEvent location:  Maryland State Fairgrounds \nAddress: 2200 York Rd\, Lutherville-Timonium\, MD 21093 \nDriving Directions –   CLICK FOR GOOGLE DRIVING  \nMORE INFO: \nThere will be Exhibitors with some of the highest quality and most exciting new pet products and services. Come shop for your furry\, feathered or scaly friends! \nIn addition to an incredible shopping experience\, there will be continuous entertainment on all days of the Expo that include: DockDogs\, Johnny Peers Muttville Comix\, AKC Dog Agility Competitions\, ACFA Cat Show\, Petting Zoo\, contests and so much more. \nWe are proud to offer educational opportunities such as demonstrations\, workshops\, free seminars\, and one-on-ones to all of our attendees. We encourage our guests\, their families and pets to not only shop and be entertained\, but to also take away new experiences and knowledge with them. \nHOURS & DAYS \nFriday: 2:00 pm – 8:00 pm\nSaturday: 10:00 am – 7:00 pm\nSunday: 10:00 am – 5:00 pm \n \nThis listing SPONSORED IN PART by \nSPONSORED BY \n \nWindows | Doors | SOLAR | Siding | Roofing\n 410-557-0555 | 717-910-4520 \nAdmission Rates \n$10 for Adults\n$5 for Children 5-12\nunder 5 FREE \n  \n\n\n  \n \n\n\n  \n \n\n\n  \n  \nDogs are Welcome that are FRIENDLY \n\n\n\n\n(adsbygoogle = window.adsbygoogle || []).push({});\n \n \n
URL:https://thingstodoadvisor.com/event/world-of-pets-expo/
LOCATION:Maryland State Fairgrounds\, 2200 York Rd\, Timonium\, MD\, 21093\, United States
CATEGORIES:Community Events,Events in Baltimore
ATTACH;FMTTYPE=image/jpeg:https://thingstodoadvisor.com/wp-content/uploads/2018/01/World-of-Pet-Expo-Timonium.jpg
END:VEVENT
END:VCALENDAR