BEGIN:VCALENDAR
VERSION:2.0
PRODID:-//Things To Do - ECPv4.8.1//NONSGML v1.0//EN
CALSCALE:GREGORIAN
METHOD:PUBLISH
X-WR-CALNAME:Things To Do
X-ORIGINAL-URL:https://thingstodoadvisor.com
X-WR-CALDESC:Events for Things To Do
BEGIN:VEVENT
DTSTART;TZID=America/New_York:20181013T090000
DTEND;TZID=America/New_York:20181013T160000
DTSTAMP:20260422T024415
CREATED:20181012T232549Z
LAST-MODIFIED:20181012T233149Z
UID:962-1539421200-1539446400@thingstodoadvisor.com
SUMMARY:Stewartstown fall festival
DESCRIPTION:\n								Once again this annual fall festival returns.  The Stewartstown Fall festival brings the community together. \n\n\nStewartstown Fall Festival! \n\n\n\n\n\n(adsbygoogle = window.adsbygoogle || []).push({});\n \n\n\nDates: OCT 13th \nTime:  9am to 4pm \n\n\nLocation:   Stewartstown Community Fairgrounds\, 16College Avenue\, Stewartstown\, PA 17363 \n\nWhat can you find at the Stewartstown Fall Festival? \n\nCraft Vendors\nVendors\nFood\nKids Activities\nFamily Fun\n\n\n \nBounce House Games & Critters \nScarecrow Stuffing Pumpkin Painting \nDance Performances Music \nBlow-Up Obstacle Course(for kids and adults) \n\n \n \nFood Options: \nCrab Cakes French Fries \nFunnel Cakes Pit Beef\, Ham\, Turkey \nLions Chicken BBQ Sausage\, Peppers and Onions \n \n \n\n(adsbygoogle = window.adsbygoogle || []).push({});\n \n\nEvent Related to: \nStewartstown Fall Festival \nStewartstown Festival \n
URL:https://thingstodoadvisor.com/event/stewartstown-fall-festival/
CATEGORIES:Events in York
ATTACH;FMTTYPE=image/jpeg:https://thingstodoadvisor.com/wp-content/uploads/2018/10/Stweartstown-Fall-Festival-18.jpg
END:VEVENT
END:VCALENDAR