BEGIN:VCALENDAR
VERSION:2.0
PRODID:-//Things To Do - ECPv4.8.1//NONSGML v1.0//EN
CALSCALE:GREGORIAN
METHOD:PUBLISH
X-WR-CALNAME:Things To Do
X-ORIGINAL-URL:https://thingstodoadvisor.com
X-WR-CALDESC:Events for Things To Do
BEGIN:VEVENT
DTSTART;TZID=America/New_York:20171202T100000
DTEND;TZID=America/New_York:20171202T140000
DTSTAMP:20260419T200010
CREATED:20171122T163746Z
LAST-MODIFIED:20171122T174038Z
UID:569-1512208800-1512223200@thingstodoadvisor.com
SUMMARY:St. Mary’s Irish Christmas Market
DESCRIPTION:\n								Once again the Gloucester Catholic High School is holding its holiday Bazaar with  LOTS of VENDORS! \nThe Arts\, Crafts\, Vendors Bazaar\nAn Annual Holiday Shopping Event \nDEC 2nd   –     Over 55 Vendors \n\n\n\n\n(adsbygoogle = window.adsbygoogle || []).push({});\n \nLocation: 320 Cumberland St. Gloucester City\, NJ \nClick for Driving Directions – here \nDate:  DEC 2nd\, 2017 \nTimes: 10 am to 2:00 \nFEE: No Fee \nAbout: \nChristmas Market and Craft Show: come shop\, have lunch\, visit Santa. We have everything you need for your Christmas shopping. Clothing\, skin care\, crochet items\, wreaths\, ornaments\, teacup feeders\, baked goods\, hand made cards\, Irish Shoppe items\, toys\, and much more!!! \n  \n \n \n\n\n \n\n\n \n\n\nSt. Mary’s Irish Christmas Market is an annual event. This Irish Shoppe articles\, childrens/womens clothing\, crafts\, jewelry\, ornaments\, teacup bird feeders\, baked goods\, candles\, beauty products\, kitchen products\, doll clothes\, crochet items\, tutus\, head bands\, stained glass\, hats\, baby items\, wreaths\, canvas bags\, cooking items. \n  \n
URL:https://thingstodoadvisor.com/event/st-marys-irish-christmas-market/
LOCATION:Gloucester Catholic High School\, 320 Cumberland Street\, Gloucester City\, 08030\, United States
CATEGORIES:Craft Shows in,Events in Camden NJ,Holiday Festivals
ATTACH;FMTTYPE=image/jpeg:https://thingstodoadvisor.com/wp-content/uploads/2017/11/Church-Craft-Fair-Gym.jpg
END:VEVENT
END:VCALENDAR