BEGIN:VCALENDAR
VERSION:2.0
PRODID:-//Things To Do - ECPv4.8.1//NONSGML v1.0//EN
CALSCALE:GREGORIAN
METHOD:PUBLISH
X-WR-CALNAME:Things To Do
X-ORIGINAL-URL:https://thingstodoadvisor.com
X-WR-CALDESC:Events for Things To Do
BEGIN:VEVENT
DTSTART;TZID=America/New_York:20161211T140000
DTEND;TZID=America/New_York:20161211T160000
DTSTAMP:20260419T181810
CREATED:20161206T185903Z
LAST-MODIFIED:20161206T190705Z
UID:60-1481464800-1481472000@thingstodoadvisor.com
SUMMARY:Old Fashioned Christmas Tea
DESCRIPTION:\n								Christmas Tea at Historic Latta Plantation \n \nHistoric Latta Plantation is a 52 acre living history site nestled in the midst of the 1\,343 acre Latta Plantation Nature Preserve.  Mountain Island Lake (formed by the Catawba River) surrounds the site to the north\, south\, and west.  In addition to the plantation home\, eleven outbuildings offer visitors a glimpse of life in North Carolina from 1800 to 1865.  Over the years\, this house has been a home to many people.  The Latta family lived here from 1800 to the late 1830s.  In 1853\, the Sample family purchased the home and lived there until 1922\, renaming the plantation ‘Riverside’ because of its proximity to the Catawba River.  The site is now used as an educational and entertainment purposes featuring farm animals\, guided house tours\, school programs\, workshops\, camps\, re-enactments\, and special events. \n\namzn_assoc_placement = "adunit0";\namzn_assoc_search_bar = "true";\namzn_assoc_tracking_id = "trit0a20-20";\namzn_assoc_ad_mode = "manual";\namzn_assoc_ad_type = "smart";\namzn_assoc_marketplace = "amazon";\namzn_assoc_region = "US";\namzn_assoc_title = "My Amazon Picks";\namzn_assoc_linkid = "f9515651bf2c0fa4f4b05235681d38d0";\namzn_assoc_asins = "B00IK3D04M\,B01N3Y0F0D\,B01DNI0DXO\,B00YUC3SU8";\n\n \nJames Latta was a Scots-irish immigrant who came to the United States in 1785.  Before settling in North Carolina\, he was a traveling merchant\, going up and down the Great Wagon Road from Philadelphia to this region of the Carolinas.  He made a nice living as a merchant and started buying land\, then built his house on the land in 1800. \n\n\n\n\n(adsbygoogle = window.adsbygoogle || []).push({});\n \nHolday Events at Latta Plantation \nAdmission Prices\nREGULAR HOUSE TOUR AND SELF-GUIDED GROUNDS TOUR\n$8.00 Adults\n$7.00 Seniors (62+)\n$7.00 Students\nChildren ages 5 and under FREE\nMembers FREE \nEvent Listing Related to: \nChristmas Tea Latta Plantation\nLatta Plantation Events\n
URL:https://thingstodoadvisor.com/event/old-fashioned-christmas-tea/
LOCATION:Historic Latta Plantation\, 5225 Sample Rd\, Huntersville\, MD\, 28078\, United States
CATEGORIES:Community Events,Holiday Festivals
ATTACH;FMTTYPE=image/jpeg:https://thingstodoadvisor.com/wp-content/uploads/2016/12/Christmas-Tea-Latta-Plantation.jpg
END:VEVENT
END:VCALENDAR