BEGIN:VCALENDAR
VERSION:2.0
PRODID:-//Things To Do - ECPv4.8.1//NONSGML v1.0//EN
CALSCALE:GREGORIAN
METHOD:PUBLISH
X-WR-CALNAME:Things To Do
X-ORIGINAL-URL:https://thingstodoadvisor.com
X-WR-CALDESC:Events for Things To Do
BEGIN:VEVENT
DTSTART;TZID=America/New_York:20221231T080000
DTEND;TZID=America/New_York:20230101T080000
DTSTAMP:20260422T022431
CREATED:20221229T143759Z
LAST-MODIFIED:20221229T143954Z
UID:1109-1672473600-1672560000@thingstodoadvisor.com
SUMMARY:New Years at Matthews Wine Cellar - Relaxed
DESCRIPTION:\n								We can’t wait to ring in 2023 with you this Saturday! Free entry and no dress code!  Enjoy a fun time with a relaxed no-dress code celebration at Matthews Wine Cellar. \nPrice $FREE \nLocations: 131 Matthews Station St.\, Matthews\, NC\, United States\, North Carolina \nPhone: (704) 321-1244 \ninfo@matthewswinecellar.com \n  \n  \n  \n
URL:https://thingstodoadvisor.com/event/new-years-at-matthews-wine-cellar-relaxed/
CATEGORIES:New Years Eve
ATTACH;FMTTYPE=image/jpeg:https://thingstodoadvisor.com/wp-content/uploads/2022/12/Matthews-Wine-Cellar.jpg
END:VEVENT
END:VCALENDAR