BEGIN:VCALENDAR
VERSION:2.0
PRODID:-//Things To Do - ECPv4.8.1//NONSGML v1.0//EN
CALSCALE:GREGORIAN
METHOD:PUBLISH
X-WR-CALNAME:Things To Do
X-ORIGINAL-URL:https://thingstodoadvisor.com
X-WR-CALDESC:Events for Things To Do
BEGIN:VEVENT
DTSTART;TZID=America/New_York:20171118T090000
DTEND;TZID=America/New_York:20171118T150000
DTSTAMP:20260419T154106
CREATED:20171117T232934Z
LAST-MODIFIED:20171117T233959Z
UID:526-1510995600-1511017200@thingstodoadvisor.com
SUMMARY:Matthews United Methodist Craft Show
DESCRIPTION:\n								Once again the Matthews United Methodist Church is holding its holiday  LOTS of VENDORS! \nThe Arts and Crafts Extravaganza\nNOV. 18th   –     Over 70 Vendors \n\n\n\n\n(adsbygoogle = window.adsbygoogle || []).push({});\n \nLocation: Matthews United Methodist Church is at 801 S. Trade Street in Matthews \n CLICK FOR DRIVING DIRECTIONS \nDate:  Nov. 18th\, 2017 \nTimes: 8:30 am to 2:30 \nAbout:  Proceeds from the Vendor Fees and Silent Auction will go to COSKids\, a Non-Profit Ministry in Matthews\, NC which supports Single Parent Families\, equipping them with the necessary resources.  Proceeds from the Cafe will go to the United Methodist Women to support their work in the community. \n \n \n  \n\n  \n\n \n\n\n \n\n\n  \n
URL:https://thingstodoadvisor.com/event/matthews-united-methodist-craft-show/
LOCATION:Matthews United Methodist\, 801 S. Trade Street\, Matthews\, 28105\, United States
CATEGORIES:Craft Shows in
ATTACH;FMTTYPE=image/jpeg:https://thingstodoadvisor.com/wp-content/uploads/2017/11/Church-Craft-Fair.jpg
END:VEVENT
END:VCALENDAR