BEGIN:VCALENDAR
VERSION:2.0
PRODID:-//Things To Do - ECPv4.8.1//NONSGML v1.0//EN
CALSCALE:GREGORIAN
METHOD:PUBLISH
X-WR-CALNAME:Things To Do
X-ORIGINAL-URL:https://thingstodoadvisor.com
X-WR-CALDESC:Events for Things To Do
BEGIN:VEVENT
DTSTART;TZID=America/New_York:20180628T080000
DTEND;TZID=America/New_York:20180629T170000
DTSTAMP:20260421T085243
CREATED:20180530T150553Z
LAST-MODIFIED:20180530T150746Z
UID:788-1530172800-1530291600@thingstodoadvisor.com
SUMMARY:Delta Cardiff Downtown BBQ Festival
DESCRIPTION:\n								This is our Amazing 3rd Annual Downtown BBQ Festival built around the community : ) \nWe will have good music\, great food\, and a variety of activities for family members of all ages. From our beer garden and cornhole tournament to our KCBS-sanctioned BBQ competition and more\, you won’t want to miss this event! \n\n Sponsored in Part by: \nAmerican Sentry Solar \nLearn about How Solar Can Save you MONEY ! \nNot Take 20 years!  With a FREE Solar Analysis  \nMention: Delta BBQ Festival and Get $500 gift card and $25 Dining gift card. \nCall Today:  410-557-0555 \n\n \nDates: \nJune 29th      Friday 5pm -10pm \nJune 30th     Saturday 11am – 10pm \nCost:  FREE to enter \nAbout: \nThis community event will have LIVE Music\, Great food\, Family fun\, and much more.  Come out and enjoy this 3rd annual event.   We are offering a variety of activities for family members of all ages. From our beer garden and cornhole tournament to our KCBS-sanctioned BBQ competition and more\, you won’t want to miss this event! \n  \n\n\n \n  \nLive Music\n \n  \n  \nThis post related to:  Delta BBQ Festival\, York County BBQ Festival  \n
URL:https://thingstodoadvisor.com/event/delta-cardiff-downtown-bbq-festival/
LOCATION:Downtown Delta\, 500 Main St\, Delta\, PA\, 17314\, United States
CATEGORIES:Beer Festivals,Community Events,Events in Harford County,Events in York
ATTACH;FMTTYPE=image/jpeg:https://thingstodoadvisor.com/wp-content/uploads/2018/05/Delta-BBQ-Festival.jpg
END:VEVENT
END:VCALENDAR