BEGIN:VCALENDAR
VERSION:2.0
PRODID:-//Things To Do - ECPv4.8.1//NONSGML v1.0//EN
CALSCALE:GREGORIAN
METHOD:PUBLISH
X-WR-CALNAME:Things To Do
X-ORIGINAL-URL:https://thingstodoadvisor.com
X-WR-CALDESC:Events for Things To Do
BEGIN:VEVENT
DTSTART;TZID=America/New_York:20171124T110000
DTEND;TZID=America/New_York:20171224T210000
DTSTAMP:20260419T141612
CREATED:20161210T155212Z
LAST-MODIFIED:20171119T173331Z
UID:83-1511521200-1514149200@thingstodoadvisor.com
SUMMARY:Christmas Village in Charlotte
DESCRIPTION:\n								Charlotte Christmas Village a Family Tradition in Uptown at Romare Bearden Park. The Charlotte Christmas Village is an inspired by the German tradition of Christmas Markets\, Vendors will sell handmade gifts\, handmade Crafts\, gifts\, and speciality food items from huts. \nThe Mulled Wine will Flow FREELY : )\nat\nChristmas Village in Charlotte \n\nthis listing sponsored by:\nADHR Gutter Cleaning – SAVE this SEASON on Gutter Cleaning \n \nADHR Gutter Cleaning  Click to Call   or   704-837-0653 \n\nTimes & Informations at Christmas Village in Charlotte \nTuesdays – Wednesdays– 11am – 7pm \nThursdays – Saturdays – 11am -9pm \nSundays – Noon – 6pm \n \n\n\n\n\n(adsbygoogle = window.adsbygoogle || []).push({});\n \nDirections & Parking\nFIND PARKING  CLICK HERE \nABOUT  – Christmas Village  \nThe tradition of decorative Christmas villages is rooted in the holiday traditions of the Moravian church\, a Protestant denomination with early settlements in Salem\, North Carolina and Bethlehem\, Pennsylvania. In American Moravian homes\, the construction of a nativity scene\, or putz\, at the base of a Christmas tree was a very common holiday activity. The term was derived from the German verb putzen\, which means “to clean” or “to decorate.”[1] These nativity scenes soon became very elaborate\, and often included sawdust or fine dirt spread to represent roads leading to the manger; stones and fresh moss to represent grottos or caves; and sticks and branches to represent miniature trees. These details were in addition to the carved wooden figures that represented the Holy Family\, animals\, shepherds\, and other traditional nativity figures.\nAlthough initially placed beneath the Christmas tree\, by the early 19th century a family’s “putz” might have also been found on the fireplace mantel\, side tables\, and other prominent places within the home. These expanded scenes might include other stories from the Bible. The story of Noah’s Ark\, an especially popular subject for a putz\, could result in the arranging of several hundred carved animals wending their way towards the ark. \nBy the mid-19th century\, more secular figures and scene elements were being added to the putz. In many homes\, the putz took more time and energy than the decoration of the family Christmas tree. Separate areas were developed with different themes; spreading outward from the Nativity scene were other farms or village scenes\, which had a way of growing larger and more elaborate every year. Eventually\, toy trains were added to these miniature worlds. ~ Wikipedia \nWhat to Expect at \nChristmas Village in Charlotte\nCharlotte Christmas Village \n  \n  \n \n\namzn_assoc_placement = "adunit0";\namzn_assoc_search_bar = "true";\namzn_assoc_tracking_id = "incart00-20";\namzn_assoc_ad_mode = "manual";\namzn_assoc_ad_type = "smart";\namzn_assoc_marketplace = "amazon";\namzn_assoc_region = "US";\namzn_assoc_title = "My Amazon Picks";\namzn_assoc_linkid = "614eaf3e20acce2a0507037e8e90f4dc";\namzn_assoc_asins = "B00FQ6W71I\,B01MSK58AA\,B072HN33DN\,B01F5A8QHS";\n\n \nListing Related to: \nChristmas Village Charlotte\nChristmas Village in Charlotte\nOther listings \nChristmas Lights Strowe Gardens\n
URL:https://thingstodoadvisor.com/event/christmas-village-in-charlotte/
CATEGORIES:Community Events,Holiday Festivals
ATTACH;FMTTYPE=image/jpeg:https://thingstodoadvisor.com/wp-content/uploads/2016/12/Christmas-Village-Charlotte-uptown.jpg
END:VEVENT
END:VCALENDAR