BEGIN:VCALENDAR
VERSION:2.0
PRODID:-//Things To Do - ECPv4.8.1//NONSGML v1.0//EN
CALSCALE:GREGORIAN
METHOD:PUBLISH
X-WR-CALNAME:Things To Do
X-ORIGINAL-URL:https://thingstodoadvisor.com
X-WR-CALDESC:Events for Things To Do
BEGIN:VEVENT
DTSTART;TZID=UTC-5:20171124T180000
DTEND;TZID=UTC-5:20171231T210000
DTSTAMP:20260419T125507
CREATED:20161130T225507Z
LAST-MODIFIED:20180810T162640Z
UID:25-1511546400-1514754000@thingstodoadvisor.com
SUMMARY:Christmas Magic
DESCRIPTION:\n								Christmas Magic is a – Holiday Christmas Lights Show in York PA\nWhat is Christmas Magic ?\nChristmas Magic is a 1/2 mile long walking trail (accessible to anyone) that meanders through 600\,000 Christmas lights\, holiday scenes and five enclosed heated pavilions. The spirit of the Holiday is displayed by using animation\, displays\, Santa Claus\, food and G-gauge train display. \nIMPORTANT NOTICE:\nEvent Past\n\n  \nWhat are the hours for Christmas Magic in York\nSPECIAL NIGHTS\n– Dog Friendly Night at Christmas Magic : Dog Friendly NIGHT is   NOV. 29th – PAST \n  \nDates and Times: \nStarts daily on November 24– December 31 (closed December 24 and 25) \nPark Closes due to Bad weather – informational line (717) 840-7443 \n\n\n\n\n(adsbygoogle = window.adsbygoogle || []).push({});\n \nWeekly \nMonday– Thursday: 6:00 p.m. to 9:00 p.m. \nWeekends \nFriday \, Saturday and Sunday: 5:00 p.m. to 9:00 p.m. \nBest Nights to come: Monday\,  & Wed often have lower crowds\nAddress: 3699 Deininger Rd\, York PA 17406 \nDriving Directions –   CLICK FOR GOOGLE DRIVING  \n  \nAbout: \nChristmas Magic is a 1/2 mile long walking trail (accessible to anyone) that meanders through 600\,000+ Christmas lights\, holiday scenes\, and five enclosed heated pavilions. The spirit of the Holiday is displayed by using animation\, displays\, Santa Claus\, food and G-gauge train display. The trail sits among a mature oak forest nestled on a quiet mountaintop. \nRADIO SPOT \n\nhttps://thingstodoadvisor.com/wp-content/uploads/2017/12/30-days-of-Xmas-Magic-2017.mp3\n———————————————————————————————- \nSPONSORED IN PART by \nSPONSORED BY \n \nCLICK HERE to get A FREE Quote\n717-910-4520 | 410-557-0555 \nA D  B U I L D . COM \nGET A $ 500.00 Gift Card for getting Solar Consultation  \n———————————————————————————————- \nCOUPON FOR CHRISTMAS MAGIC \n \n  \n\n\n  \n \n\n\n  \n \n\n\n  \n  \n  \nADMISSION RATES: \nAdmission Rates Adults – $10.00\nChildren (4-12) – $5.00\nUnder 4 Free\nSeniors (over 59) – $9.00\nAdult & Senior Group (12+) – $7.00 \n\n\n\n\n(adsbygoogle = window.adsbygoogle || []).push({});\n \n  \nThanks for the support of our Events \n
URL:https://thingstodoadvisor.com/event/christmas-magic/
LOCATION:Rocky Ridge Park\, 3699 Deininger Road\, York  PA  17406\, York\, PA\, 17406\, United States
CATEGORIES:Community Events,Holiday Festivals
ATTACH;FMTTYPE=image/jpeg:https://thingstodoadvisor.com/wp-content/uploads/2016/11/Christmas-Magic-York.jpg
ORGANIZER;CN="York%20County%20Parks":MAILTO:Parks@yorkcountypa.gov
END:VEVENT
END:VCALENDAR