BEGIN:VCALENDAR
VERSION:2.0
PRODID:-//Things To Do - ECPv4.8.1//NONSGML v1.0//EN
CALSCALE:GREGORIAN
METHOD:PUBLISH
X-WR-CALNAME:Things To Do
X-ORIGINAL-URL:https://thingstodoadvisor.com
X-WR-CALDESC:Events for Things To Do
BEGIN:VEVENT
DTSTART;TZID=America/New_York:20171125T080000
DTEND;TZID=America/New_York:20171125T143000
DTSTAMP:20260419T142245
CREATED:20171119T144348Z
LAST-MODIFIED:20171119T145438Z
UID:533-1511596800-1511620200@thingstodoadvisor.com
SUMMARY:Christmas Bazaar Trinity Lutheran
DESCRIPTION:\n								Once again the Trinity Lutheran Church in Joppa is holding its holiday Bazaar with  LOTS of VENDORS! \nThe Arts\, Crafts\, Vendors Bazaar\nA Holiday Shopping Event \nNOV. 25th   –     Over 55 Vendors \n\n\n\n\n(adsbygoogle = window.adsbygoogle || []).push({});\n \nLocation: Trinity Lutheran Church\n1100 Philadelphia Road\,\nJoppa MD 21085 \nCLICK FOR DRIVING DIRECTIONS \nDate:  Nov. 25th\, 2017 \nTimes: 8:30 am to 2:30 \nFEE: No Fee for Holiday Shopping Event \nAbout:  This annual event also includes Breakfast with Santa (additional ticket required)  There will be about 60 vendors ( crafters\, direct sellers and more onsite for your holiday shopping) \nEmail to get tickets for Breakfast with Santa (advance sales only) disneymouse56@comcast.net \nor call Church office at : (410) 676-2805 \n \n \n \n\nAdvance Ticket Sales only see above.\n\n \n\n\n \n\n\n  \n
URL:https://thingstodoadvisor.com/event/christmas-bazaar-trinity-lutheran/
LOCATION:Trinity Luteran Joppa\, 1100 Philadelphia Road\, Joppa\, MD\, 21085\, United States
ATTACH;FMTTYPE=image/jpeg:https://thingstodoadvisor.com/wp-content/uploads/2017/11/Church-Craft-Fair-1.jpg
END:VEVENT
END:VCALENDAR