BEGIN:VCALENDAR
VERSION:2.0
PRODID:-//Things To Do - ECPv4.8.1//NONSGML v1.0//EN
CALSCALE:GREGORIAN
METHOD:PUBLISH
X-WR-CALNAME:Things To Do
X-ORIGINAL-URL:https://thingstodoadvisor.com
X-WR-CALDESC:Events for Things To Do
BEGIN:VEVENT
DTSTART;TZID=America/New_York:20190104T120000
DTEND;TZID=America/New_York:20190105T180000
DTSTAMP:20260419T195427
CREATED:20180102T181143Z
LAST-MODIFIED:20181216T135724Z
UID:658-1546603200-1546711200@thingstodoadvisor.com
SUMMARY:Baltimore WoodWorking Show
DESCRIPTION:\n								Woodworking is one of those things people love to share together and of course our nation was built upon the skills and talents of great working wood to create things. \nA new generation has discovered the fun\, excitement and the realness of creating something out of wood.  Come see and explore what 2018 brings to woodworking and even if it is just the curiosity of it. \n\n\n\n\n(adsbygoogle = window.adsbygoogle || []).push({});\n \n \nFor the past 30 years\, The Woodworking Shows have established a devoted following by providing woodworkers with an outlet for their passion through tools\, education and a unique sense of community by hosting hands-on trade shows for woodworkers across the United States. \nOur shows are jam packed with plenty to see and do. Use the below list of topics and resources to help you navigate The Woodworking Shows. \n\n \nPrice: $12 (online purchase)\nKids under the age of 16 are admitted freely with a paying adult. \nShow Schedule \nWhen:   Jan 4th to 6th \nHours:    Friday – 12:00 PM – 6:00 PM\nSaturday – 10:00 AM – 6:00 PM\nSunday – 10:00 AM – 3:00 PM \nLocation: Maryland State Fairgrounds\,\n2200 York Rd\, Lutherville-Timonium\, MD 21093 \nDriving Directions \nGet Coupon / Discounts \n \nWoodworking can mean something different to everyone. For some it’s an opportunity to stretch the creative muscles. For others it’s a source of stress relief. For many of us\, it’s a connection to our past or families. \n \n  \n  \n\n
URL:https://thingstodoadvisor.com/event/baltimore-wood-working-show/
LOCATION:Maryland State Fairgrounds\, 2200 York Rd\, Timonium\, MD\, 21093\, United States
CATEGORIES:Events in Baltimore,Events in Maryland
ATTACH;FMTTYPE=image/jpeg:https://thingstodoadvisor.com/wp-content/uploads/2018/01/Baltimore-Wood-Working-Show.jpg
END:VEVENT
END:VCALENDAR