BEGIN:VCALENDAR
VERSION:2.0
PRODID:-//Things To Do - ECPv4.8.1//NONSGML v1.0//EN
CALSCALE:GREGORIAN
METHOD:PUBLISH
X-WR-CALNAME:Things To Do
X-ORIGINAL-URL:https://thingstodoadvisor.com
X-WR-CALDESC:Events for Things To Do
BEGIN:VEVENT
DTSTART;TZID=America/New_York:20161210T100000
DTEND;TZID=America/New_York:20161211T170000
DTSTAMP:20260421T115208
CREATED:20161206T162845Z
LAST-MODIFIED:20161206T163519Z
UID:47-1481364000-1481475600@thingstodoadvisor.com
SUMMARY:Artisan Gifts Expo Charlotte
DESCRIPTION:\n								Artisan Gift  Expo Charlotte –\nVendors and Artisans presenting all types of Merchandise and Great Deals\, Handmade products\, Gifts\, Apparel\, Fashion Accessories\, Body Products\, Clothing\, Jewelry\, Bath and Body Products\, Gourmet Items\, Vintage Items\, Collectibles\, and more.  All Artisan Gift and Merchandise Market Shows are open to the public. \nCharlotte Artisan Gift  Expo Charlotte\nVendors and Artisans \n\n\n\n\n\n(adsbygoogle = window.adsbygoogle || []).push({});\n \n \nImportant CRAFT SHOW update \nCANCELED – Lost Space for VENUE – Look for event in 2017 \nNEW Date : Saturday & Sunday: December 2 & 3 \, (2017) \n\namzn_assoc_placement = "adunit0";\namzn_assoc_search_bar = "true";\namzn_assoc_tracking_id = "trit0a20-20";\namzn_assoc_ad_mode = "manual";\namzn_assoc_ad_type = "smart";\namzn_assoc_marketplace = "amazon";\namzn_assoc_region = "US";\namzn_assoc_title = "My Amazon Picks";\namzn_assoc_linkid = "f9515651bf2c0fa4f4b05235681d38d0";\namzn_assoc_asins = "B00IK3D04M\,B01N3Y0F0D\,B01DNI0DXO\,B00YUC3SU8";\n\n \nThis post related to: \nCraft Shows in Charlotte\nThings to Do in Charlotte \n
URL:https://thingstodoadvisor.com/event/artisan-gifts-expo-charlotte/
LOCATION:Charlotte\, 28201\, United States
CATEGORIES:Craft Shows in
ATTACH;FMTTYPE=image/jpeg:https://thingstodoadvisor.com/wp-content/uploads/2016/12/Craft-Show.jpg
END:VEVENT
END:VCALENDAR